BEGIN:VCALENDAR
VERSION:2.0
PRODID:-//OneGov//onegov.event//
BEGIN:VEVENT
SUMMARY:Abstimmung
DTSTART:20260927T073000Z
DTEND:20260927T090000Z
DTSTAMP:20250624T123634Z
UID:abstimmung-16-2026-09-27@onegov.event
CATEGORIES:Politics
DESCRIPTION:
GEO:47.174231346088675;8.427833525388962
LAST-MODIFIED:20250624T123634Z
LOCATION:Foyer Dorfplatz\, Maihölzli 2\, 6331 Hünenberg
URL:https://tools.huenenberg.ch/event/abstimmung-16-2026-09-27
END:VEVENT
END:VCALENDAR
