BEGIN:VCALENDAR
VERSION:2.0
PRODID:-//OneGov//onegov.event//
BEGIN:VEVENT
SUMMARY:Apéro am Lichterweg
DTSTART:20261210T170000Z
DTEND:20261210T190000Z
DTSTAMP:20250624T123538Z
UID:apero-am-lichterweg-4-2026-12-10@onegov.event
CATEGORIES:Meetup,Culture,Gastronomy
DESCRIPTION:
GEO:47.17528148494112;8.437596559524538
LAST-MODIFIED:20250624T123538Z
LOCATION:Hubel
URL:https://tools.huenenberg.ch/event/apero-am-lichterweg-4-2026-12-10
END:VEVENT
END:VCALENDAR
