BEGIN:VCALENDAR
VERSION:2.0
PRODID:-//OneGov//onegov.event//
BEGIN:VEVENT
SUMMARY:Computeria
DTSTART:20260709T140000Z
DTEND:20260709T160000Z
DTSTAMP:20260413T145527Z
UID:computeria-2026-07-09@onegov.event
CATEGORIES:Elderly
DESCRIPTION:
GEO:47.175449;8.425484
LAST-MODIFIED:20260413T145527Z
LOCATION:Bibliothek
URL:https://tools.huenenberg.ch/event/computeria-2026-07-09
END:VEVENT
END:VCALENDAR
