BEGIN:VCALENDAR
VERSION:2.0
PRODID:-//OneGov//onegov.event//
BEGIN:VEVENT
SUMMARY:Klassenkonzert Sarah Swahili
DTSTART:20260622T140000Z
DTEND:20260622T144500Z
DTSTAMP:20260408T075655Z
UID:klassenkonzert-sarah-swahili-2026-06-22@onegov.event
CATEGORIES:Music,Concert,Music School
DESCRIPTION:Es musizieren Schülerinnen und Schüler vom Dorf der Xylophon
 -Gruppe und des Musikgarten 2.
LAST-MODIFIED:20260408T075655Z
LOCATION:Aula Ehret A\, Hünenberg
URL:https://tools.huenenberg.ch/event/klassenkonzert-sarah-swahili-2026-06
 -22
END:VEVENT
END:VCALENDAR
