BEGIN:VCALENDAR
VERSION:2.0
PRODID:-//OneGov//onegov.event//
BEGIN:VEVENT
SUMMARY:Konzert Kinderchor
DTSTART:20260620T080000Z
DTEND:20260620T090000Z
DTSTAMP:20250829T071843Z
UID:konzert-kinderchor-10-2026-06-20@onegov.event
CATEGORIES:Music,Concert,Music School
DESCRIPTION:Es singen Schülerinnen und Schüler des Kinderchors.
LAST-MODIFIED:20250829T071843Z
LOCATION:Saal «Heinrich von Hünenberg»\, Hünenberg
URL:https://tools.huenenberg.ch/event/konzert-kinderchor-10-2026-06-20
END:VEVENT
END:VCALENDAR
