BEGIN:VCALENDAR
VERSION:2.0
PRODID:-//OneGov//onegov.event//
BEGIN:VEVENT
SUMMARY:OpenStage
DTSTART:20260520T170000Z
DTEND:20260520T180000Z
DTSTAMP:20250829T071926Z
UID:openstage-16-2026-05-20@onegov.event
CATEGORIES:Music,Concert,Music School
DESCRIPTION:Es spielen Schülerinnen und Schüler verschiedener Instrument
 al- und Gesangsklassen.
LAST-MODIFIED:20250829T071926Z
LOCATION:Aula Ehret A\, Hünenberg
URL:https://tools.huenenberg.ch/event/openstage-16-2026-05-20
END:VEVENT
END:VCALENDAR
