BEGIN:VCALENDAR
VERSION:2.0
PRODID:-//OneGov//onegov.event//
BEGIN:VEVENT
SUMMARY:Vereinspräsidentenkonferenz (Präsidentin)
DTSTART:20261102T183000Z
DTEND:20261102T200000Z
DTSTAMP:20250624T123610Z
UID:vereinspraesidentenkonferenz-praesidentin-2026-11-02@onegov.event
CATEGORIES:Meetup
DESCRIPTION:Die Vereinspräsidentinnen und -​präsidenten werden jährli
 ch zur Vereinspräsidentenkonferenz mit der Gemeindepräsidentin und der g
 emeindlichen Liegenschaftsverwaltung eingeladen. \n\nEs werden aktuelle T
 hemen und Informationen zur Nutzung der gemeindlichen Anlagen und Anliegen
  der Vereine besprochen sowie Informationen über bevorstehende Vereinsanl
 ässe und Mutationen innerhalb der Vereine ausgetauscht.
GEO:47.17423863315313;8.427860161468345
LAST-MODIFIED:20250624T123610Z
LOCATION:Einhornsaal\, Maihölzli 2\, 6331 Hünenberg
URL:https://tools.huenenberg.ch/event/vereinspraesidentenkonferenz-praesid
 entin-2026-11-02
END:VEVENT
END:VCALENDAR
