BEGIN:VCALENDAR
VERSION:2.0
PRODID:-//OneGov//onegov.event//
BEGIN:VEVENT
SUMMARY:Zugerberg Trophy
DTSTART:20260420T060000Z
DTEND:20260420T180000Z
DTSTAMP:20260420T131333Z
UID:zugerberg-trophy-2026-04-20@onegov.event
CATEGORIES:Sports
DESCRIPTION:Anlässlich der 22. Austragung laden wir alle Hünenbergerinne
 n und Hünenberger ein\, sich auf den permanent eingerichteten Zeitmessstr
 ecken zu bewegen!\n\nEs stehen drei Rundstrecken über 2.8 km\, 8.4 und 1
 2.3 km in den Sportarten Running\, Walking und Nordic Walking sowie ein OL
  im Angebot.\n\nStart und Ziel befindet sich beim Parkplatz Strandbad Hün
 enberg\, die Strecken sind signalisiert.\n\nDie Strecken werden wiederum 
 über 28 Wochen betrieben im gesamten Zeitfenster vom 21.03.2026 - 02.10.2
 026.
GEO:47.168881931347165;8.451881936551974
LAST-MODIFIED:20260420T131333Z
LOCATION:Hünenberg See
URL:https://tools.huenenberg.ch/event/zugerberg-trophy-2026-04-20
END:VEVENT
END:VCALENDAR
