BEGIN:VCALENDAR
VERSION:2.0
PRODID:-//OneGov//onegov.event//
BEGIN:VEVENT
SUMMARY:Gschichte-Zyt
DTSTART:20260318T153000Z
DTEND:20260318T160000Z
DTSTAMP:20260419T132619Z
UID:gschichte-zyt-5-2026-03-18@onegov.event
CATEGORIES:Library,Reading,Literature
DESCRIPTION:
LAST-MODIFIED:20260419T132619Z
LOCATION:Bibliothek Hünenberg
URL:https://tools.huenenberg.ch/event-management/gschichte-zyt-5
END:VEVENT
BEGIN:VEVENT
SUMMARY:Gschichte-Zyt
DTSTART:20260429T143000Z
DTEND:20260429T150000Z
DTSTAMP:20260419T132619Z
UID:gschichte-zyt-5-2026-04-29@onegov.event
CATEGORIES:Library,Reading,Literature
DESCRIPTION:
LAST-MODIFIED:20260419T132619Z
LOCATION:Bibliothek Hünenberg
URL:https://tools.huenenberg.ch/event-management/gschichte-zyt-5
END:VEVENT
BEGIN:VEVENT
SUMMARY:Gschichte-Zyt
DTSTART:20260527T143000Z
DTEND:20260527T150000Z
DTSTAMP:20260419T132619Z
UID:gschichte-zyt-5-2026-05-27@onegov.event
CATEGORIES:Library,Reading,Literature
DESCRIPTION:
LAST-MODIFIED:20260419T132619Z
LOCATION:Bibliothek Hünenberg
URL:https://tools.huenenberg.ch/event-management/gschichte-zyt-5
END:VEVENT
BEGIN:VEVENT
SUMMARY:Lesung mit Petra Ivanov
DTSTART:20261112T180000Z
DTEND:20261112T200000Z
DTSTAMP:20260419T132619Z
UID:lesung-mit-petra-ivanov-2026-11-12@onegov.event
CATEGORIES:Library,Reading
DESCRIPTION:
LAST-MODIFIED:20260419T132619Z
LOCATION:Bibliothek Hünenberg
URL:https://tools.huenenberg.ch/event-management/lesung-mit-petra-ivanov
END:VEVENT
END:VCALENDAR
